BEGIN:VCALENDAR
VERSION:2.0
PRODID:-//Orange Strong NY - ECPv6.6.2//NONSGML v1.0//EN
CALSCALE:GREGORIAN
METHOD:PUBLISH
X-WR-CALNAME:Orange Strong NY
X-ORIGINAL-URL:https://orangestrongny.com
X-WR-CALDESC:Events for Orange Strong NY
REFRESH-INTERVAL;VALUE=DURATION:PT1H
X-Robots-Tag:noindex
X-PUBLISHED-TTL:PT1H
BEGIN:VTIMEZONE
TZID:UTC
BEGIN:STANDARD
TZOFFSETFROM:+0000
TZOFFSETTO:+0000
TZNAME:UTC
DTSTART:20240101T000000
END:STANDARD
END:VTIMEZONE
BEGIN:VEVENT
DTSTART;VALUE=DATE:20240824
DTEND;VALUE=DATE:20240825
DTSTAMP:20260420T190506
CREATED:20240814T144541Z
LAST-MODIFIED:20240814T145309Z
UID:1957-1724457600-1724543999@orangestrongny.com
SUMMARY:Community Canvassing w/ Tom Lapolla
DESCRIPTION:Come out and exercise your body and your civic duty!\nHelp get out the vote!\n \n  \n\n  \nGraciously shared by:\n \n\n 
URL:https://orangestrongny.com/event/community-canvassing-w-tom-lapolla/
ATTACH;FMTTYPE=image/png:https://orangestrongny.com/wp-content/uploads/2024/08/TOM_20240812_211325_0000.png
END:VEVENT
BEGIN:VEVENT
DTSTART;TZID=UTC:20240813T200000
DTEND;TZID=UTC:20240813T210000
DTSTAMP:20260420T190506
CREATED:20240813T223226Z
LAST-MODIFIED:20240813T223524Z
UID:1954-1723579200-1723582800@orangestrongny.com
SUMMARY:Project Civica Training!
DESCRIPTION:
URL:https://orangestrongny.com/event/project-civica-training/
END:VEVENT
END:VCALENDAR