BEGIN:VCALENDAR
VERSION:2.0
PRODID:-//Orange Strong NY - ECPv6.6.2//NONSGML v1.0//EN
CALSCALE:GREGORIAN
METHOD:PUBLISH
X-WR-CALNAME:Orange Strong NY
X-ORIGINAL-URL:https://orangestrongny.com
X-WR-CALDESC:Events for Orange Strong NY
REFRESH-INTERVAL;VALUE=DURATION:PT1H
X-Robots-Tag:noindex
X-PUBLISHED-TTL:PT1H
BEGIN:VTIMEZONE
TZID:America/New_York
BEGIN:DAYLIGHT
TZOFFSETFROM:-0500
TZOFFSETTO:-0400
TZNAME:EDT
DTSTART:20240310T070000
END:DAYLIGHT
BEGIN:STANDARD
TZOFFSETFROM:-0400
TZOFFSETTO:-0500
TZNAME:EST
DTSTART:20241103T060000
END:STANDARD
END:VTIMEZONE
BEGIN:VEVENT
DTSTART;TZID=America/New_York:20240906T110000
DTEND;TZID=America/New_York:20240907T190000
DTSTAMP:20260420T150450
CREATED:20240828T210630Z
LAST-MODIFIED:20240828T212548Z
UID:2064-1725620400-1725735600@orangestrongny.com
SUMMARY:Attack on Food and Farmers and How to Fight Back
DESCRIPTION:After the lockdowns of 2020 and the vaccine mandates of 2021\, most Americans have heard about the idea of medical freedom and many have concerns about informed consent. One in four of our countrymen say they know someone who was seriously injured or killed by the Covid vaccines. The need for informed consent in medicine is apparent. But far fewer know anything about food freedom\, or why it matters.  \nMedical freedom and food freedom are two sides of the same coin\, and unless we fight to protect both\, we will have neither.\n  \n \n\n 
URL:https://orangestrongny.com/event/attack-on-food-and-farmers-and-how-to-fight-back/
LOCATION:Virtual
ATTACH;FMTTYPE=image/png:https://orangestrongny.com/wp-content/uploads/2024/08/Screenshot-2024-08-28-160348c.png
END:VEVENT
END:VCALENDAR